BEGIN:VCALENDAR
VERSION:2.0
PRODID:-//Onde ir - ECPv6.15.20//NONSGML v1.0//EN
CALSCALE:GREGORIAN
METHOD:PUBLISH
X-WR-CALNAME:Onde ir
X-ORIGINAL-URL:https://teste.ondeir.com.br
X-WR-CALDESC:Eventos para Onde ir
REFRESH-INTERVAL;VALUE=DURATION:PT1H
X-Robots-Tag:noindex
X-PUBLISHED-TTL:PT1H
BEGIN:VTIMEZONE
TZID:America/Sao_Paulo
BEGIN:STANDARD
TZOFFSETFROM:-0300
TZOFFSETTO:-0300
TZNAME:-03
DTSTART:20240101T000000
END:STANDARD
END:VTIMEZONE
BEGIN:VEVENT
DTSTART;VALUE=DATE:20251107
DTEND;VALUE=DATE:20260105
DTSTAMP:20260419T165325
CREATED:20250810T204701Z
LAST-MODIFIED:20251022T103657Z
UID:70084-1762473600-1767571199@teste.ondeir.com.br
SUMMARY:Magia do Natal
DESCRIPTION:Para terminar o ano em um clima de paz e harmonia\, o período natalino é marcado por todo um contexto que envolve religiosidade\, tradição e a alegria de uma época que\, por si só\, já vem carregada de emoção e sentimento. As luzes iluminam residências\, praças\, jardins e pontos comerciais\, enchendo de alegria os corações de crianças\, jovens e adultos. A Serra Gaúcha é destino certo para centenas de pessoas durante os festejos natalinos. No período\, o charme natural da região se alia ao colorido das luzes natalinas e aos elementos lúdicos da ornamentação\, encantando a todos que visitam a cidade. \nUma extensa programação artística e cultural foi cuidadosamente organizada para encantar o público\, acendendo a Magia do Natal nos corações de todos. Trazendo o clima natalino em forma de música\, dança\, teatro\, atividades comunitárias e eventos especiais. \nAs atrações da Magia do Natal ocorrem de sexta-feira a domingo\, na Rua Coberta e Praça das Flores\, sem cobrança de ingresso. \nOrganização: Associação Comercial e Industrial de Nova Petrópolis e Secretaria de Turismo e Cultura. \nTelefone: (54) 3281-8403 | (54) 3281-8400 (WhatsApp) \nContato: turismo@novapetropolis.rs.gov.br
URL:https://teste.ondeir.com.br/evento/magia-do-natal/
LOCATION:Nova Petrópolis RS
CATEGORIES:Eventos
ATTACH;FMTTYPE=image/jpeg:https://teste.ondeir.com.br/wp-content/uploads/2025/08/DSC06978.jpg
END:VEVENT
END:VCALENDAR